BEGIN:VCALENDAR
VERSION:2.0
PRODID:-//Hayes &amp; Co - ECPv6.15.20//NONSGML v1.0//EN
CALSCALE:GREGORIAN
METHOD:PUBLISH
X-ORIGINAL-URL:https://hayesandco.com.au
X-WR-CALDESC:Events for Hayes &amp; Co
REFRESH-INTERVAL;VALUE=DURATION:PT1H
X-Robots-Tag:noindex
X-PUBLISHED-TTL:PT1H
BEGIN:VTIMEZONE
TZID:Australia/Brisbane
BEGIN:STANDARD
TZOFFSETFROM:+1000
TZOFFSETTO:+1000
TZNAME:AEST
DTSTART:20220101T000000
END:STANDARD
END:VTIMEZONE
BEGIN:VEVENT
DTSTART;TZID=Australia/Brisbane:20251128T100000
DTEND;TZID=Australia/Brisbane:20251128T100000
DTSTAMP:20260420T191110
CREATED:20250205T122840Z
LAST-MODIFIED:20250205T122840Z
UID:76687-1764324000-1764324000@hayesandco.com.au
SUMMARY:Sarina Prime & Store Sale
DESCRIPTION:The Sarina Prime & Store Sale \nSarina Showgrounds – Bruce Highway\, Sarina QLD 4737 \nThe sale commences at 10am \nCurfew – Cattle must be at the saleyards by 8pm on the Thursday. \nFor more information and all bookings\, please contact: \n\nPeter Hayes – ph. 0418 755 732\nHayes & Co – ph. (07) 5463 8099\nEmail: admin@hayesandco.com.au
URL:https://hayesandco.com.au/event/sarina-prime-store-sale-4/2025-11-28/
LOCATION:Sarina Saleyards\, 91238 Bruce Hwy\, Sarina\, QLD\, 4737\, Australia
CATEGORIES:Sarina Prime Store Sale
ATTACH;FMTTYPE=image/jpeg:https://hayesandco.com.au/wp-content/uploads/2017/10/SARINA-PRIME-STORE-CATTLE-SALE-v1.jpg
END:VEVENT
BEGIN:VEVENT
DTSTART;TZID=Australia/Brisbane:20251114T100000
DTEND;TZID=Australia/Brisbane:20251114T100000
DTSTAMP:20260420T191110
CREATED:20250205T122840Z
LAST-MODIFIED:20250205T122840Z
UID:76686-1763114400-1763114400@hayesandco.com.au
SUMMARY:Sarina Prime & Store Sale
DESCRIPTION:The Sarina Prime & Store Sale \nSarina Showgrounds – Bruce Highway\, Sarina QLD 4737 \nThe sale commences at 10am \nCurfew – Cattle must be at the saleyards by 8pm on the Thursday. \nFor more information and all bookings\, please contact: \n\nPeter Hayes – ph. 0418 755 732\nHayes & Co – ph. (07) 5463 8099\nEmail: admin@hayesandco.com.au
URL:https://hayesandco.com.au/event/sarina-prime-store-sale-4/2025-11-14/
LOCATION:Sarina Saleyards\, 91238 Bruce Hwy\, Sarina\, QLD\, 4737\, Australia
CATEGORIES:Sarina Prime Store Sale
ATTACH;FMTTYPE=image/jpeg:https://hayesandco.com.au/wp-content/uploads/2017/10/SARINA-PRIME-STORE-CATTLE-SALE-v1.jpg
END:VEVENT
BEGIN:VEVENT
DTSTART;TZID=Australia/Brisbane:20251031T100000
DTEND;TZID=Australia/Brisbane:20251031T100000
DTSTAMP:20260420T191110
CREATED:20250205T122840Z
LAST-MODIFIED:20250205T122840Z
UID:76685-1761904800-1761904800@hayesandco.com.au
SUMMARY:Sarina Prime & Store Sale
DESCRIPTION:The Sarina Prime & Store Sale \nSarina Showgrounds – Bruce Highway\, Sarina QLD 4737 \nThe sale commences at 10am \nCurfew – Cattle must be at the saleyards by 8pm on the Thursday. \nFor more information and all bookings\, please contact: \n\nPeter Hayes – ph. 0418 755 732\nHayes & Co – ph. (07) 5463 8099\nEmail: admin@hayesandco.com.au
URL:https://hayesandco.com.au/event/sarina-prime-store-sale-4/2025-10-31/
LOCATION:Sarina Saleyards\, 91238 Bruce Hwy\, Sarina\, QLD\, 4737\, Australia
CATEGORIES:Sarina Prime Store Sale
ATTACH;FMTTYPE=image/jpeg:https://hayesandco.com.au/wp-content/uploads/2017/10/SARINA-PRIME-STORE-CATTLE-SALE-v1.jpg
END:VEVENT
BEGIN:VEVENT
DTSTART;TZID=Australia/Brisbane:20251017T100000
DTEND;TZID=Australia/Brisbane:20251017T100000
DTSTAMP:20260420T191110
CREATED:20250205T122840Z
LAST-MODIFIED:20250205T122840Z
UID:76684-1760695200-1760695200@hayesandco.com.au
SUMMARY:Sarina Prime & Store Sale
DESCRIPTION:The Sarina Prime & Store Sale \nSarina Showgrounds – Bruce Highway\, Sarina QLD 4737 \nThe sale commences at 10am \nCurfew – Cattle must be at the saleyards by 8pm on the Thursday. \nFor more information and all bookings\, please contact: \n\nPeter Hayes – ph. 0418 755 732\nHayes & Co – ph. (07) 5463 8099\nEmail: admin@hayesandco.com.au
URL:https://hayesandco.com.au/event/sarina-prime-store-sale-4/2025-10-17/
LOCATION:Sarina Saleyards\, 91238 Bruce Hwy\, Sarina\, QLD\, 4737\, Australia
CATEGORIES:Sarina Prime Store Sale
ATTACH;FMTTYPE=image/jpeg:https://hayesandco.com.au/wp-content/uploads/2017/10/SARINA-PRIME-STORE-CATTLE-SALE-v1.jpg
END:VEVENT
BEGIN:VEVENT
DTSTART;TZID=Australia/Brisbane:20251003T100000
DTEND;TZID=Australia/Brisbane:20251003T100000
DTSTAMP:20260420T191110
CREATED:20250205T122840Z
LAST-MODIFIED:20250205T122840Z
UID:76681-1759485600-1759485600@hayesandco.com.au
SUMMARY:Sarina Prime & Store Sale
DESCRIPTION:The Sarina Prime & Store Sale \nSarina Showgrounds – Bruce Highway\, Sarina QLD 4737 \nThe sale commences at 10am \nCurfew – Cattle must be at the saleyards by 8pm on the Thursday. \nFor more information and all bookings\, please contact: \n\nPeter Hayes – ph. 0418 755 732\nHayes & Co – ph. (07) 5463 8099\nEmail: admin@hayesandco.com.au
URL:https://hayesandco.com.au/event/sarina-prime-store-sale-4/2025-10-03/
LOCATION:Sarina Saleyards\, 91238 Bruce Hwy\, Sarina\, QLD\, 4737\, Australia
CATEGORIES:Sarina Prime Store Sale
ATTACH;FMTTYPE=image/jpeg:https://hayesandco.com.au/wp-content/uploads/2017/10/SARINA-PRIME-STORE-CATTLE-SALE-v1.jpg
END:VEVENT
BEGIN:VEVENT
DTSTART;TZID=Australia/Brisbane:20250919T100000
DTEND;TZID=Australia/Brisbane:20250919T100000
DTSTAMP:20260420T191110
CREATED:20250205T122840Z
LAST-MODIFIED:20250205T122840Z
UID:76679-1758276000-1758276000@hayesandco.com.au
SUMMARY:Sarina Prime & Store Sale
DESCRIPTION:The Sarina Prime & Store Sale \nSarina Showgrounds – Bruce Highway\, Sarina QLD 4737 \nThe sale commences at 10am \nCurfew – Cattle must be at the saleyards by 8pm on the Thursday. \nFor more information and all bookings\, please contact: \n\nPeter Hayes – ph. 0418 755 732\nHayes & Co – ph. (07) 5463 8099\nEmail: admin@hayesandco.com.au
URL:https://hayesandco.com.au/event/sarina-prime-store-sale-4/2025-09-19/
LOCATION:Sarina Saleyards\, 91238 Bruce Hwy\, Sarina\, QLD\, 4737\, Australia
CATEGORIES:Sarina Prime Store Sale
ATTACH;FMTTYPE=image/jpeg:https://hayesandco.com.au/wp-content/uploads/2017/10/SARINA-PRIME-STORE-CATTLE-SALE-v1.jpg
END:VEVENT
BEGIN:VEVENT
DTSTART;TZID=Australia/Brisbane:20250905T100000
DTEND;TZID=Australia/Brisbane:20250905T100000
DTSTAMP:20260420T191110
CREATED:20250205T122840Z
LAST-MODIFIED:20250205T122840Z
UID:71632-1757066400-1757066400@hayesandco.com.au
SUMMARY:Sarina Prime & Store Sale
DESCRIPTION:The Sarina Prime & Store Sale \nSarina Showgrounds – Bruce Highway\, Sarina QLD 4737 \nThe sale commences at 10am \nCurfew – Cattle must be at the saleyards by 8pm on the Thursday. \nFor more information and all bookings\, please contact: \n\nPeter Hayes – ph. 0418 755 732\nHayes & Co – ph. (07) 5463 8099\nEmail: admin@hayesandco.com.au
URL:https://hayesandco.com.au/event/sarina-prime-store-sale-4/2025-09-05/
LOCATION:Sarina Saleyards\, 91238 Bruce Hwy\, Sarina\, QLD\, 4737\, Australia
CATEGORIES:Sarina Prime Store Sale
ATTACH;FMTTYPE=image/jpeg:https://hayesandco.com.au/wp-content/uploads/2017/10/SARINA-PRIME-STORE-CATTLE-SALE-v1.jpg
END:VEVENT
BEGIN:VEVENT
DTSTART;TZID=Australia/Brisbane:20250822T100000
DTEND;TZID=Australia/Brisbane:20250822T100000
DTSTAMP:20260420T191110
CREATED:20250205T122840Z
LAST-MODIFIED:20250205T122840Z
UID:71631-1755856800-1755856800@hayesandco.com.au
SUMMARY:Sarina Prime & Store Sale
DESCRIPTION:The Sarina Prime & Store Sale \nSarina Showgrounds – Bruce Highway\, Sarina QLD 4737 \nThe sale commences at 10am \nCurfew – Cattle must be at the saleyards by 8pm on the Thursday. \nFor more information and all bookings\, please contact: \n\nPeter Hayes – ph. 0418 755 732\nHayes & Co – ph. (07) 5463 8099\nEmail: admin@hayesandco.com.au
URL:https://hayesandco.com.au/event/sarina-prime-store-sale-4/2025-08-22/
LOCATION:Sarina Saleyards\, 91238 Bruce Hwy\, Sarina\, QLD\, 4737\, Australia
CATEGORIES:Sarina Prime Store Sale
ATTACH;FMTTYPE=image/jpeg:https://hayesandco.com.au/wp-content/uploads/2017/10/SARINA-PRIME-STORE-CATTLE-SALE-v1.jpg
END:VEVENT
BEGIN:VEVENT
DTSTART;TZID=Australia/Brisbane:20250808T100000
DTEND;TZID=Australia/Brisbane:20250808T100000
DTSTAMP:20260420T191110
CREATED:20250205T122840Z
LAST-MODIFIED:20250205T122840Z
UID:71630-1754647200-1754647200@hayesandco.com.au
SUMMARY:Sarina Prime & Store Sale
DESCRIPTION:The Sarina Prime & Store Sale \nSarina Showgrounds – Bruce Highway\, Sarina QLD 4737 \nThe sale commences at 10am \nCurfew – Cattle must be at the saleyards by 8pm on the Thursday. \nFor more information and all bookings\, please contact: \n\nPeter Hayes – ph. 0418 755 732\nHayes & Co – ph. (07) 5463 8099\nEmail: admin@hayesandco.com.au
URL:https://hayesandco.com.au/event/sarina-prime-store-sale-4/2025-08-08/
LOCATION:Sarina Saleyards\, 91238 Bruce Hwy\, Sarina\, QLD\, 4737\, Australia
CATEGORIES:Sarina Prime Store Sale
ATTACH;FMTTYPE=image/jpeg:https://hayesandco.com.au/wp-content/uploads/2017/10/SARINA-PRIME-STORE-CATTLE-SALE-v1.jpg
END:VEVENT
BEGIN:VEVENT
DTSTART;TZID=Australia/Brisbane:20250725T100000
DTEND;TZID=Australia/Brisbane:20250725T100000
DTSTAMP:20260420T191110
CREATED:20250205T122840Z
LAST-MODIFIED:20250205T122840Z
UID:71629-1753437600-1753437600@hayesandco.com.au
SUMMARY:Sarina Prime & Store Sale
DESCRIPTION:The Sarina Prime & Store Sale \nSarina Showgrounds – Bruce Highway\, Sarina QLD 4737 \nThe sale commences at 10am \nCurfew – Cattle must be at the saleyards by 8pm on the Thursday. \nFor more information and all bookings\, please contact: \n\nPeter Hayes – ph. 0418 755 732\nHayes & Co – ph. (07) 5463 8099\nEmail: admin@hayesandco.com.au
URL:https://hayesandco.com.au/event/sarina-prime-store-sale-4/2025-07-25/
LOCATION:Sarina Saleyards\, 91238 Bruce Hwy\, Sarina\, QLD\, 4737\, Australia
CATEGORIES:Sarina Prime Store Sale
ATTACH;FMTTYPE=image/jpeg:https://hayesandco.com.au/wp-content/uploads/2017/10/SARINA-PRIME-STORE-CATTLE-SALE-v1.jpg
END:VEVENT
BEGIN:VEVENT
DTSTART;TZID=Australia/Brisbane:20250711T100000
DTEND;TZID=Australia/Brisbane:20250711T100000
DTSTAMP:20260420T191110
CREATED:20250205T122840Z
LAST-MODIFIED:20251009T005251Z
UID:71628-1752228000-1752228000@hayesandco.com.au
SUMMARY:Sarina Prime & Store Sale
DESCRIPTION:The Sarina Prime & Store Sale \nSarina Showgrounds – Bruce Highway\, Sarina QLD 4737 \nThe sale commences at 10am \nCurfew – Cattle must be at the saleyards by 8pm on the Thursday. \nFor more information and all bookings\, please contact: \n\nPeter Hayes – ph. 0418 755 732\nHayes & Co – ph. (07) 5463 8099\nEmail: admin@hayesandco.com.au
URL:https://hayesandco.com.au/event/sarina-prime-store-sale-4/2025-07-11/
LOCATION:Sarina Saleyards\, 91238 Bruce Hwy\, Sarina\, QLD\, 4737\, Australia
CATEGORIES:North Queensland Sales,Sarina Prime Store Sale
ATTACH;FMTTYPE=image/jpeg:https://hayesandco.com.au/wp-content/uploads/2017/10/SARINA-PRIME-STORE-CATTLE-SALE-v1.jpg
END:VEVENT
BEGIN:VEVENT
DTSTART;TZID=Australia/Brisbane:20250627T100000
DTEND;TZID=Australia/Brisbane:20250627T100000
DTSTAMP:20260420T191110
CREATED:20250205T122840Z
LAST-MODIFIED:20251009T005241Z
UID:71627-1751018400-1751018400@hayesandco.com.au
SUMMARY:Sarina Prime & Store Sale
DESCRIPTION:The Sarina Prime & Store Sale \nSarina Showgrounds – Bruce Highway\, Sarina QLD 4737 \nThe sale commences at 10am \nCurfew – Cattle must be at the saleyards by 8pm on the Thursday. \nFor more information and all bookings\, please contact: \n\nPeter Hayes – ph. 0418 755 732\nHayes & Co – ph. (07) 5463 8099\nEmail: admin@hayesandco.com.au
URL:https://hayesandco.com.au/event/sarina-prime-store-sale-4/2025-06-27/
LOCATION:Sarina Saleyards\, 91238 Bruce Hwy\, Sarina\, QLD\, 4737\, Australia
CATEGORIES:North Queensland Sales,Sarina Prime Store Sale
ATTACH;FMTTYPE=image/jpeg:https://hayesandco.com.au/wp-content/uploads/2017/10/SARINA-PRIME-STORE-CATTLE-SALE-v1.jpg
END:VEVENT
BEGIN:VEVENT
DTSTART;TZID=Australia/Brisbane:20250613T100000
DTEND;TZID=Australia/Brisbane:20250613T100000
DTSTAMP:20260420T191110
CREATED:20250205T122840Z
LAST-MODIFIED:20251009T005233Z
UID:71626-1749808800-1749808800@hayesandco.com.au
SUMMARY:Sarina Prime & Store Sale
DESCRIPTION:The Sarina Prime & Store Sale \nSarina Showgrounds – Bruce Highway\, Sarina QLD 4737 \nThe sale commences at 10am \nCurfew – Cattle must be at the saleyards by 8pm on the Thursday. \nFor more information and all bookings\, please contact: \n\nPeter Hayes – ph. 0418 755 732\nHayes & Co – ph. (07) 5463 8099\nEmail: admin@hayesandco.com.au
URL:https://hayesandco.com.au/event/sarina-prime-store-sale-4/2025-06-13/
LOCATION:Sarina Saleyards\, 91238 Bruce Hwy\, Sarina\, QLD\, 4737\, Australia
CATEGORIES:North Queensland Sales,Sarina Prime Store Sale
ATTACH;FMTTYPE=image/jpeg:https://hayesandco.com.au/wp-content/uploads/2017/10/SARINA-PRIME-STORE-CATTLE-SALE-v1.jpg
END:VEVENT
BEGIN:VEVENT
DTSTART;TZID=Australia/Brisbane:20250530T100000
DTEND;TZID=Australia/Brisbane:20250530T100000
DTSTAMP:20260420T191110
CREATED:20250205T122840Z
LAST-MODIFIED:20251009T005225Z
UID:71625-1748599200-1748599200@hayesandco.com.au
SUMMARY:Sarina Prime & Store Sale
DESCRIPTION:The Sarina Prime & Store Sale \nSarina Showgrounds – Bruce Highway\, Sarina QLD 4737 \nThe sale commences at 10am \nCurfew – Cattle must be at the saleyards by 8pm on the Thursday. \nFor more information and all bookings\, please contact: \n\nPeter Hayes – ph. 0418 755 732\nHayes & Co – ph. (07) 5463 8099\nEmail: admin@hayesandco.com.au
URL:https://hayesandco.com.au/event/sarina-prime-store-sale-4/2025-05-30/
LOCATION:Sarina Saleyards\, 91238 Bruce Hwy\, Sarina\, QLD\, 4737\, Australia
CATEGORIES:North Queensland Sales,Sarina Prime Store Sale
ATTACH;FMTTYPE=image/jpeg:https://hayesandco.com.au/wp-content/uploads/2017/10/SARINA-PRIME-STORE-CATTLE-SALE-v1.jpg
END:VEVENT
BEGIN:VEVENT
DTSTART;TZID=Australia/Brisbane:20250523T100000
DTEND;TZID=Australia/Brisbane:20250523T100000
DTSTAMP:20260420T191110
CREATED:20250424T114821Z
LAST-MODIFIED:20250424T114821Z
UID:71543-1747994400-1747994400@hayesandco.com.au
SUMMARY:SARINA BATTLE OF THE BREEDS SALE
DESCRIPTION:The Sarina Battle of the Breeds Sale will be held on Friday\, 23rd May 2025 at the Sarina Saleyards. \nOver $5000 in cash and prizes to be won. \nBookings are now being taken. Please contact Peter Hayes ph. 0418 755 732
URL:https://hayesandco.com.au/event/sarina-battle-of-the-breeds-sale/
LOCATION:Sarina Saleyards\, 91238 Bruce Hwy\, Sarina\, QLD\, 4737\, Australia
CATEGORIES:Feature Sales,Sarina Prime Store Sale,Sarina Show Sale
ATTACH;FMTTYPE=image/jpeg:https://hayesandco.com.au/wp-content/uploads/2025/04/Sarina-Battle-for-the-Breeds.jpg
END:VEVENT
BEGIN:VEVENT
DTSTART;TZID=Australia/Brisbane:20250516T100000
DTEND;TZID=Australia/Brisbane:20250516T100000
DTSTAMP:20260420T191110
CREATED:20250205T122840Z
LAST-MODIFIED:20251009T005217Z
UID:71624-1747389600-1747389600@hayesandco.com.au
SUMMARY:Sarina Prime & Store Sale
DESCRIPTION:The Sarina Prime & Store Sale \nSarina Showgrounds – Bruce Highway\, Sarina QLD 4737 \nThe sale commences at 10am \nCurfew – Cattle must be at the saleyards by 8pm on the Thursday. \nFor more information and all bookings\, please contact: \n\nPeter Hayes – ph. 0418 755 732\nHayes & Co – ph. (07) 5463 8099\nEmail: admin@hayesandco.com.au
URL:https://hayesandco.com.au/event/sarina-prime-store-sale-4/2025-05-16/
LOCATION:Sarina Saleyards\, 91238 Bruce Hwy\, Sarina\, QLD\, 4737\, Australia
CATEGORIES:North Queensland Sales,Sarina Prime Store Sale
ATTACH;FMTTYPE=image/jpeg:https://hayesandco.com.au/wp-content/uploads/2017/10/SARINA-PRIME-STORE-CATTLE-SALE-v1.jpg
END:VEVENT
BEGIN:VEVENT
DTSTART;TZID=Australia/Brisbane:20250502T100000
DTEND;TZID=Australia/Brisbane:20250502T100000
DTSTAMP:20260420T191110
CREATED:20250205T122840Z
LAST-MODIFIED:20251009T005210Z
UID:71623-1746180000-1746180000@hayesandco.com.au
SUMMARY:Sarina Prime & Store Sale
DESCRIPTION:The Sarina Prime & Store Sale \nSarina Showgrounds – Bruce Highway\, Sarina QLD 4737 \nThe sale commences at 10am \nCurfew – Cattle must be at the saleyards by 8pm on the Thursday. \nFor more information and all bookings\, please contact: \n\nPeter Hayes – ph. 0418 755 732\nHayes & Co – ph. (07) 5463 8099\nEmail: admin@hayesandco.com.au
URL:https://hayesandco.com.au/event/sarina-prime-store-sale-4/2025-05-02/
LOCATION:Sarina Saleyards\, 91238 Bruce Hwy\, Sarina\, QLD\, 4737\, Australia
CATEGORIES:North Queensland Sales,Sarina Prime Store Sale
ATTACH;FMTTYPE=image/jpeg:https://hayesandco.com.au/wp-content/uploads/2017/10/SARINA-PRIME-STORE-CATTLE-SALE-v1.jpg
END:VEVENT
BEGIN:VEVENT
DTSTART;TZID=Australia/Brisbane:20250214T100000
DTEND;TZID=Australia/Brisbane:20250214T100000
DTSTAMP:20260420T191110
CREATED:20250205T122840Z
LAST-MODIFIED:20251009T005130Z
UID:67311-1739527200-1739527200@hayesandco.com.au
SUMMARY:Sarina Prime & Store Sale
DESCRIPTION:The Sarina Prime & Store Sale \nSarina Showgrounds – Bruce Highway\, Sarina QLD 4737 \nThe sale commences at 10am \nCurfew – Cattle must be at the saleyards by 8pm on the Thursday. \nFor more information and all bookings\, please contact: \n\nPeter Hayes – ph. 0418 755 732\nHayes & Co – ph. (07) 5463 8099\nEmail: admin@hayesandco.com.au
URL:https://hayesandco.com.au/event/sarina-prime-store-sale-4/2025-02-14/
LOCATION:Sarina Saleyards\, 91238 Bruce Hwy\, Sarina\, QLD\, 4737\, Australia
CATEGORIES:North Queensland Sales,Sarina Prime Store Sale
ATTACH;FMTTYPE=image/jpeg:https://hayesandco.com.au/wp-content/uploads/2017/10/SARINA-PRIME-STORE-CATTLE-SALE-v1.jpg
END:VEVENT
BEGIN:VEVENT
DTSTART;TZID=Australia/Brisbane:20240712T100000
DTEND;TZID=Australia/Brisbane:20240712T170000
DTSTAMP:20260420T191110
CREATED:20240108T055646Z
LAST-MODIFIED:20240108T055646Z
UID:45707-1720778400-1720803600@hayesandco.com.au
SUMMARY:Sarina Prime & Store Sale
DESCRIPTION:Friday – 10am \nCurfew – 8pm\, Thursday \nSarina Showgrounds – Bruce Highway\, Sarina QLD 4737
URL:https://hayesandco.com.au/event/sarina-prime-store-sale-3/
LOCATION:Sarina Saleyards\, 91238 Bruce Hwy\, Sarina\, QLD\, 4737\, Australia
CATEGORIES:Sarina Prime Store Sale
ATTACH;FMTTYPE=image/jpeg:https://hayesandco.com.au/wp-content/uploads/2017/07/SARINA-PRIME-STORE-CATTLE-SALE.jpg
END:VEVENT
BEGIN:VEVENT
DTSTART;TZID=Australia/Brisbane:20240520T080000
DTEND;TZID=Australia/Brisbane:20240520T080000
DTSTAMP:20260420T191110
CREATED:20240429T003126Z
LAST-MODIFIED:20240429T003932Z
UID:52042-1716192000-1716192000@hayesandco.com.au
SUMMARY:Battle of the Breeds Sale
DESCRIPTION:The Sarina Battle of the Breeds Sale will be held on Monday 20th May 2024 at the Sarina Saleyards. \nThere is over $5000 in cash & prizes to be won! \nFor more information\, please contact: \n\nPeter Hayes ph. 0418 755 732\nHayes & Co ph. (07) 5463 8099 or email: admin@hayesandco.com.au
URL:https://hayesandco.com.au/event/battle-of-the-breeds-sale/
LOCATION:Sarina Saleyards\, 91238 Bruce Hwy\, Sarina\, QLD\, 4737\, Australia
CATEGORIES:Feature Sales,Sarina Prime Store Sale
ATTACH;FMTTYPE=image/jpeg:https://hayesandco.com.au/wp-content/uploads/2024/04/Sarina_20.05.24_Battle-of-Breeds.jpg
END:VEVENT
BEGIN:VEVENT
DTSTART;TZID=Australia/Brisbane:20240405T100000
DTEND;TZID=Australia/Brisbane:20240405T100000
DTSTAMP:20260420T191110
CREATED:20240108T055505Z
LAST-MODIFIED:20240403T063447Z
UID:45700-1712311200-1712311200@hayesandco.com.au
SUMMARY:Sarina Prime & Store Sale - Cancelled
DESCRIPTION:Friday – 10am \nCurfew – 8pm\, Thursday \nSarina Showgrounds – Bruce Highway\, Sarina QLD 4737
URL:https://hayesandco.com.au/event/sarina-prime-store-sale-2-2024-04-05/
LOCATION:Sarina Saleyards\, 91238 Bruce Hwy\, Sarina\, QLD\, 4737\, Australia
CATEGORIES:Sarina Prime Store Sale
ATTACH;FMTTYPE=image/jpeg:https://hayesandco.com.au/wp-content/uploads/2024/01/Sarina_5.04.24_Cancelled.jpg
END:VEVENT
BEGIN:VEVENT
DTSTART;TZID=Australia/Brisbane:20240119T100000
DTEND;TZID=Australia/Brisbane:20240119T100000
DTSTAMP:20260420T191110
CREATED:20240108T055505Z
LAST-MODIFIED:20240108T055505Z
UID:45693-1705658400-1705658400@hayesandco.com.au
SUMMARY:Sarina Prime & Store Sale
DESCRIPTION:Friday – 10am \nCurfew – 8pm\, Thursday \nSarina Showgrounds – Bruce Highway\, Sarina QLD 4737
URL:https://hayesandco.com.au/event/sarina-prime-store-sale-2/
LOCATION:Sarina Saleyards\, 91238 Bruce Hwy\, Sarina\, QLD\, 4737\, Australia
CATEGORIES:Sarina Prime Store Sale
ATTACH;FMTTYPE=image/jpeg:https://hayesandco.com.au/wp-content/uploads/2017/07/SARINA-PRIME-STORE-CATTLE-SALE.jpg
END:VEVENT
BEGIN:VEVENT
DTSTART;TZID=Australia/Brisbane:20230203T100000
DTEND;TZID=Australia/Brisbane:20230203T100000
DTSTAMP:20260420T191110
CREATED:20230116T063916Z
LAST-MODIFIED:20230117T230235Z
UID:32850-1675418400-1675418400@hayesandco.com.au
SUMMARY:Sarina Prime & Store Sale
DESCRIPTION:10am Friday\, Curfew 8pm Thursday
URL:https://hayesandco.com.au/event/sarina-prime-store-sale/2023-02-03/
LOCATION:Sarina Saleyards\, 91238 Bruce Hwy\, Sarina\, QLD\, 4737\, Australia
CATEGORIES:Sarina Prime Store Sale
ATTACH;FMTTYPE=image/jpeg:https://hayesandco.com.au/wp-content/uploads/2017/10/SARINA-PRIME-STORE-CATTLE-SALE-v1.jpg
END:VEVENT
END:VCALENDAR