BEGIN:VCALENDAR
VERSION:2.0
PRODID:-//Hayes &amp; Co - ECPv6.15.20//NONSGML v1.0//EN
CALSCALE:GREGORIAN
METHOD:PUBLISH
X-ORIGINAL-URL:https://hayesandco.com.au
X-WR-CALDESC:Events for Hayes &amp; Co
REFRESH-INTERVAL;VALUE=DURATION:PT1H
X-Robots-Tag:noindex
X-PUBLISHED-TTL:PT1H
BEGIN:VTIMEZONE
TZID:Australia/Brisbane
BEGIN:STANDARD
TZOFFSETFROM:+1000
TZOFFSETTO:+1000
TZNAME:AEST
DTSTART:20240101T000000
END:STANDARD
END:VTIMEZONE
BEGIN:VEVENT
DTSTART;TZID=Australia/Brisbane:20250405T100000
DTEND;TZID=Australia/Brisbane:20250405T100000
DTSTAMP:20260423T190829
CREATED:20250313T222324Z
LAST-MODIFIED:20250313T222324Z
UID:70062-1743847200-1743847200@hayesandco.com.au
SUMMARY:Kilcoy Store & Fat Sale
DESCRIPTION:The Kilcoy Store & Fat sale will be held on Saturday 5th April 2025 at the Kilcoy Showgrounds. The sale commences at 10am. \nCattle will need to be at the Kilcoy Showgrounds by 6pm\, Friday 4th April. \nTo book in cattle\, please contact: \n\nLandon Hayes ph. 0448 052 187\nJacob Gaske ph. 0400 244 303\nScott Hall ph. 0447 006 332\nHayes & Co Office ph. 5463 8099\nEmail: admin@hayesandco.com.au\n\nA canteen will be available on the day.
URL:https://hayesandco.com.au/event/kilcoy-store-fat-sale-4/
LOCATION:Kilcoy Show Grounds\, 26 Showgrounds Rd\, Woolmar\, Queensland\, 4515
CATEGORIES:Kilcoy Store and Fat Sales
ATTACH;FMTTYPE=image/jpeg:https://hayesandco.com.au/wp-content/uploads/2025/03/Kilcoy-Store_5.04.25.jpg
END:VEVENT
END:VCALENDAR