BEGIN:VCALENDAR
VERSION:2.0
PRODID:-//Hayes &amp; Co - ECPv6.15.20//NONSGML v1.0//EN
CALSCALE:GREGORIAN
METHOD:PUBLISH
X-ORIGINAL-URL:https://hayesandco.com.au
X-WR-CALDESC:Events for Hayes &amp; Co
REFRESH-INTERVAL;VALUE=DURATION:PT1H
X-Robots-Tag:noindex
X-PUBLISHED-TTL:PT1H
BEGIN:VTIMEZONE
TZID:Australia/Brisbane
BEGIN:STANDARD
TZOFFSETFROM:+1000
TZOFFSETTO:+1000
TZNAME:AEST
DTSTART:20240101T000000
END:STANDARD
END:VTIMEZONE
BEGIN:VEVENT
DTSTART;TZID=Australia/Brisbane:20250517T100000
DTEND;TZID=Australia/Brisbane:20250517T100000
DTSTAMP:20260422T080929
CREATED:20250324T045117Z
LAST-MODIFIED:20250324T051412Z
UID:70237-1747476000-1747476000@hayesandco.com.au
SUMMARY:Silverdale Annual Weaner Sale
DESCRIPTION:The second Silverdale Annual Weaner Sale for 2025 will be held at 10am\, Saturday 17th May 2025. \nThe curfew for cattle arriving to the sale is – 7pm\, Friday 16th May 2025.\nPre-treatment of cattle is highly recommended for ease of movement to tick free country. \nBookings are essential. \nFor all bookings and enquiries\, please contact: \n\nPeter Hayes – 0418 755 732\nLandon Hayes – 0448 052 187\nJacob Gaske – 0400 244 303\nScott Hall – 0447 006 332\nHayes & Co Office – 5463 8099\nEmail: admin@hayesandco.com.au
URL:https://hayesandco.com.au/event/silverdale-annual-weaner-sale-2025-2/
LOCATION:Silverdale SEQ Saleyards\, 5380 Cunningham Highway\, Silverdale\, Queensland\, 4307\, Australia
CATEGORIES:Feature Sales,Silverdale Weaner Sale
ATTACH;FMTTYPE=image/jpeg:https://hayesandco.com.au/wp-content/uploads/2025/03/2.jpg
END:VEVENT
BEGIN:VEVENT
DTSTART;TZID=Australia/Brisbane:20250520T080000
DTEND;TZID=Australia/Brisbane:20250520T170000
DTSTAMP:20260422T080929
CREATED:20250429T051450Z
LAST-MODIFIED:20250429T052934Z
UID:71645-1747728000-1747760400@hayesandco.com.au
SUMMARY:Michelmore Special Sale
DESCRIPTION:The Michelmore Special Sale will be held on the 20th May 2025 at the Nebo Saleyards. The sale commences at 9am. \nOn Offer – 1200 Head of vendor bred cattle \n\n200 Meatworks cattle\n400 No.3 & No.4 steers\n600 No.3 & No.4 heifers\n\nFor more information\, contact: \n\nPeter Hayes 0418 755 732\nLandon Hayes 0448 052 187\nEmail: admin@hayesandco.com.au
URL:https://hayesandco.com.au/event/michelmore-special-sale/
LOCATION:Nebo Saleyards\, 70 Braeside Road\, Nebo\, QLD\, 4742\, Australia
CATEGORIES:Feature Sales,Sarina Prime Store Sale
ATTACH;FMTTYPE=image/jpeg:https://hayesandco.com.au/wp-content/uploads/2025/04/Michelmore-Special-Store_20.05.25.jpg
END:VEVENT
BEGIN:VEVENT
DTSTART;TZID=Australia/Brisbane:20250523T100000
DTEND;TZID=Australia/Brisbane:20250523T100000
DTSTAMP:20260422T080929
CREATED:20250424T114821Z
LAST-MODIFIED:20250424T114821Z
UID:71543-1747994400-1747994400@hayesandco.com.au
SUMMARY:SARINA BATTLE OF THE BREEDS SALE
DESCRIPTION:The Sarina Battle of the Breeds Sale will be held on Friday\, 23rd May 2025 at the Sarina Saleyards. \nOver $5000 in cash and prizes to be won. \nBookings are now being taken. Please contact Peter Hayes ph. 0418 755 732
URL:https://hayesandco.com.au/event/sarina-battle-of-the-breeds-sale/
LOCATION:Sarina Saleyards\, 91238 Bruce Hwy\, Sarina\, QLD\, 4737\, Australia
CATEGORIES:Feature Sales,Sarina Prime Store Sale,Sarina Show Sale
ATTACH;FMTTYPE=image/jpeg:https://hayesandco.com.au/wp-content/uploads/2025/04/Sarina-Battle-for-the-Breeds.jpg
END:VEVENT
END:VCALENDAR