BEGIN:VCALENDAR
VERSION:2.0
PRODID:-//Hayes &amp; Co - ECPv6.15.20//NONSGML v1.0//EN
CALSCALE:GREGORIAN
METHOD:PUBLISH
X-ORIGINAL-URL:https://hayesandco.com.au
X-WR-CALDESC:Events for Hayes &amp; Co
REFRESH-INTERVAL;VALUE=DURATION:PT1H
X-Robots-Tag:noindex
X-PUBLISHED-TTL:PT1H
BEGIN:VTIMEZONE
TZID:Australia/Brisbane
BEGIN:STANDARD
TZOFFSETFROM:+1000
TZOFFSETTO:+1000
TZNAME:AEST
DTSTART:20220101T000000
END:STANDARD
END:VTIMEZONE
BEGIN:VEVENT
DTSTART;TZID=Australia/Brisbane:20230527T100000
DTEND;TZID=Australia/Brisbane:20230527T100000
DTSTAMP:20260422T213657
CREATED:20230118T041834Z
LAST-MODIFIED:20230505T111548Z
UID:32914-1685181600-1685181600@hayesandco.com.au
SUMMARY:Nebo Ridden & Penned Horse Sale
DESCRIPTION:Penned Horse Sale\nBraeside Annual Farmers Market Auction
URL:https://hayesandco.com.au/event/nebo-ridden-penned-horse-sale-2/2023-05-27/
LOCATION:Nebo Saleyards\, 70 Braeside Road\, Nebo\, QLD\, 4742\, Australia
ATTACH;FMTTYPE=image/jpeg:https://hayesandco.com.au/wp-content/uploads/2023/01/Horse-Sale-flier.jpg
END:VEVENT
END:VCALENDAR