BEGIN:VCALENDAR
VERSION:2.0
PRODID:-//Hayes &amp; Co - ECPv6.15.20//NONSGML v1.0//EN
CALSCALE:GREGORIAN
METHOD:PUBLISH
X-ORIGINAL-URL:https://hayesandco.com.au
X-WR-CALDESC:Events for Hayes &amp; Co
REFRESH-INTERVAL;VALUE=DURATION:PT1H
X-Robots-Tag:noindex
X-PUBLISHED-TTL:PT1H
BEGIN:VTIMEZONE
TZID:Australia/Brisbane
BEGIN:STANDARD
TZOFFSETFROM:+1000
TZOFFSETTO:+1000
TZNAME:AEST
DTSTART:20220101T000000
END:STANDARD
END:VTIMEZONE
BEGIN:VEVENT
DTSTART;TZID=Australia/Brisbane:20230210T090000
DTEND;TZID=Australia/Brisbane:20230210T090000
DTSTAMP:20260422T000037
CREATED:20230116T061528Z
LAST-MODIFIED:20230117T063924Z
UID:32824-1676019600-1676019600@hayesandco.com.au
SUMMARY:Nebo Prime & Store Sale
DESCRIPTION:9am Friday\, Curfew 8pm Thursday
URL:https://hayesandco.com.au/event/nebo-prime-store-sale-2/2023-02-10/
LOCATION:Nebo Saleyards\, 70 Braeside Road\, Nebo\, QLD\, 4742\, Australia
CATEGORIES:Nebo Prime & Store Sale
ATTACH;FMTTYPE=image/jpeg:https://hayesandco.com.au/wp-content/uploads/2018/04/Nebo-Booking-Facebook-Image.jpg
END:VEVENT
END:VCALENDAR